BEGIN:VCALENDAR
VERSION:2.0
PRODID:-//Freiwillige Feuerwehr Wartenfels - ECPv6.15.20//NONSGML v1.0//EN
CALSCALE:GREGORIAN
METHOD:PUBLISH
X-WR-CALNAME:Freiwillige Feuerwehr Wartenfels
X-ORIGINAL-URL:http://ff-wartenfels.de
X-WR-CALDESC:Veranstaltungen für Freiwillige Feuerwehr Wartenfels
REFRESH-INTERVAL;VALUE=DURATION:PT1H
X-Robots-Tag:noindex
X-PUBLISHED-TTL:PT1H
BEGIN:VTIMEZONE
TZID:UTC
BEGIN:STANDARD
TZOFFSETFROM:+0000
TZOFFSETTO:+0000
TZNAME:UTC
DTSTART:20250101T000000
END:STANDARD
END:VTIMEZONE
BEGIN:VEVENT
DTSTART;TZID=UTC:20260514T093000
DTEND;TZID=UTC:20260514T190000
DTSTAMP:20260419T144020
CREATED:20251113T131255Z
LAST-MODIFIED:20251113T131255Z
UID:2135-1778751000-1778785200@ff-wartenfels.de
SUMMARY:Vatertagswanderung
DESCRIPTION:
URL:http://ff-wartenfels.de/event/vatertagswanderung-3/
LOCATION:Feuerwehrhaus Wartenfels\, Wartenfels 120\, Presseck\, Bayern\, 95355\, Deutschland
END:VEVENT
BEGIN:VEVENT
DTSTART;TZID=UTC:20260605T210000
DTEND;TZID=UTC:20260606T020000
DTSTAMP:20260419T144020
CREATED:20251113T131831Z
LAST-MODIFIED:20251113T131831Z
UID:2145-1780693200-1780711200@ff-wartenfels.de
SUMMARY:Beach Party
DESCRIPTION:
URL:http://ff-wartenfels.de/event/beach-party-3/
LOCATION:Feuerwehrhaus Wartenfels\, Wartenfels 120\, Presseck\, Bayern\, 95355\, Deutschland
END:VEVENT
BEGIN:VEVENT
DTSTART;TZID=UTC:20260607T093000
DTEND;TZID=UTC:20260607T183000
DTSTAMP:20260419T144020
CREATED:20251113T131918Z
LAST-MODIFIED:20251113T131918Z
UID:2147-1780824600-1780857000@ff-wartenfels.de
SUMMARY:Tag der offenen Tür
DESCRIPTION:
URL:http://ff-wartenfels.de/event/tag-der-offenen-tuer-2/
LOCATION:Feuerwehrhaus Wartenfels\, Wartenfels 120\, Presseck\, Bayern\, 95355\, Deutschland
END:VEVENT
BEGIN:VEVENT
DTSTART;TZID=UTC:20261024T143000
DTEND;TZID=UTC:20261024T170000
DTSTAMP:20260419T144020
CREATED:20251113T131713Z
LAST-MODIFIED:20251113T131713Z
UID:2143-1792852200-1792861200@ff-wartenfels.de
SUMMARY:Abschlussübung
DESCRIPTION:
URL:http://ff-wartenfels.de/event/abschlussuebung-4/
LOCATION:Feuerwehrhaus Wartenfels\, Wartenfels 120\, Presseck\, Bayern\, 95355\, Deutschland
END:VEVENT
BEGIN:VEVENT
DTSTART;TZID=UTC:20261024T183000
DTEND;TZID=UTC:20261024T233000
DTSTAMP:20260419T144020
CREATED:20251113T131446Z
LAST-MODIFIED:20251113T131446Z
UID:2139-1792866600-1792884600@ff-wartenfels.de
SUMMARY:Kameradschaftsabend
DESCRIPTION:
URL:http://ff-wartenfels.de/event/kameradschaftsabend-3/
LOCATION:Feuerwehrhaus Wartenfels\, Wartenfels 120\, Presseck\, Bayern\, 95355\, Deutschland
END:VEVENT
BEGIN:VEVENT
DTSTART;TZID=UTC:20261129T130000
DTEND;TZID=UTC:20261129T180000
DTSTAMP:20260419T144020
CREATED:20251113T131357Z
LAST-MODIFIED:20251113T131357Z
UID:2137-1795957200-1795975200@ff-wartenfels.de
SUMMARY:Weihnachtsmarkt
DESCRIPTION:
URL:http://ff-wartenfels.de/event/weihnachtsmarkt-2/
LOCATION:Feuerwehrhaus Wartenfels\, Wartenfels 120\, Presseck\, Bayern\, 95355\, Deutschland
END:VEVENT
BEGIN:VEVENT
DTSTART;TZID=UTC:20261212T190000
DTEND;TZID=UTC:20261212T233000
DTSTAMP:20260419T144020
CREATED:20251113T131546Z
LAST-MODIFIED:20251113T131546Z
UID:2141-1797102000-1797118200@ff-wartenfels.de
SUMMARY:Weihnachtsfeier
DESCRIPTION:
URL:http://ff-wartenfels.de/event/weihnachtsfeier-4/
LOCATION:Gasthaus Geyer\, Wartenfels 1\, Presseck\, Bayern\, 95355\, Deutschland
END:VEVENT
END:VCALENDAR