BEGIN:VCALENDAR
VERSION:2.0
PRODID:-//Freiwillige Feuerwehr Wartenfels - ECPv6.15.20//NONSGML v1.0//EN
CALSCALE:GREGORIAN
METHOD:PUBLISH
X-WR-CALNAME:Freiwillige Feuerwehr Wartenfels
X-ORIGINAL-URL:http://ff-wartenfels.de
X-WR-CALDESC:Veranstaltungen für Freiwillige Feuerwehr Wartenfels
REFRESH-INTERVAL;VALUE=DURATION:PT1H
X-Robots-Tag:noindex
X-PUBLISHED-TTL:PT1H
BEGIN:VTIMEZONE
TZID:UTC
BEGIN:STANDARD
TZOFFSETFROM:+0000
TZOFFSETTO:+0000
TZNAME:UTC
DTSTART:20230101T000000
END:STANDARD
END:VTIMEZONE
BEGIN:VEVENT
DTSTART;TZID=UTC:20260206T193000
DTEND;TZID=UTC:20260206T233000
DTSTAMP:20260424T231804
CREATED:20251025T111217Z
LAST-MODIFIED:20260114T162117Z
UID:2127-1770406200-1770420600@ff-wartenfels.de
SUMMARY:Faschingstanz
DESCRIPTION:Wenn sich alles in eine bunte Zirkusmanege verwandelt und die Feuerwehr für beste Unterhaltung sorgt\, dann ist es wieder Zeit für unseren legendären Faschingsabend! Freut euch auf eine einzigartige Mischung aus Musik\, guter Stimmung und zahlreichen Auftritten.\n\n\n Freitag\, 06. Februar\n ab 19:30 Uhr\n Sportheim Wartenfels\n\n\n Musik: Andreas Pöhlmann\n Maskeneinzug: 20:00 Uhr\n Eintritt: 7 €\n Special: Jede Vollmaske erhält ein Freigetränk an der Bar!\n\n\nAlso Kostüm anziehen\, Freunde einpacken und gemeinsam eine unvergessliche Faschingsnacht erleben!
URL:http://ff-wartenfels.de/event/faschingstanz-3/
LOCATION:ATS Sportheim\, Wartenfels 149\, Presseck\, Bayern\, 95355
END:VEVENT
BEGIN:VEVENT
DTSTART;TZID=UTC:20260118T084500
DTEND;TZID=UTC:20260118T093000
DTSTAMP:20260424T231804
CREATED:20251229T121452Z
LAST-MODIFIED:20251229T121452Z
UID:2258-1768725900-1768728600@ff-wartenfels.de
SUMMARY:Gottesdienst für verstorbene Vereinsmitglieder
DESCRIPTION:
URL:http://ff-wartenfels.de/event/gottesdienst-fuer-verstorbene-vereinsmitglieder/
LOCATION:St. Bartholomäuskirche\, Wartenfels
END:VEVENT
BEGIN:VEVENT
DTSTART;TZID=UTC:20260117T193000
DTEND;TZID=UTC:20260117T213000
DTSTAMP:20260424T231804
CREATED:20250911T121651Z
LAST-MODIFIED:20251229T121522Z
UID:2059-1768678200-1768685400@ff-wartenfels.de
SUMMARY:Jahreshauptversammlung
DESCRIPTION:
URL:http://ff-wartenfels.de/event/jahreshauptversammlung-2/
LOCATION:Gasthaus Geyer\, Wartenfels 1\, Presseck\, Bayern\, 95355\, Deutschland
END:VEVENT
BEGIN:VEVENT
DTSTART;TZID=UTC:20251227T150000
DTEND;TZID=UTC:20251227T180000
DTSTAMP:20260424T231804
CREATED:20250911T121604Z
LAST-MODIFIED:20251205T104222Z
UID:2057-1766847600-1766858400@ff-wartenfels.de
SUMMARY:Taubenaustausch
DESCRIPTION:
URL:http://ff-wartenfels.de/event/taubenaustausch-3/
LOCATION:Gasthaus Geyer\, Wartenfels 1\, Presseck\, Bayern\, 95355\, Deutschland
END:VEVENT
BEGIN:VEVENT
DTSTART;TZID=UTC:20251213T193000
DTEND;TZID=UTC:20251213T233000
DTSTAMP:20260424T231804
CREATED:20250911T121802Z
LAST-MODIFIED:20251205T104104Z
UID:2061-1765654200-1765668600@ff-wartenfels.de
SUMMARY:Weihnachtsfeier
DESCRIPTION:
URL:http://ff-wartenfels.de/event/weihnachtsfeier-3/
LOCATION:Gasthaus Geyer\, Wartenfels 1\, Presseck\, Bayern\, 95355\, Deutschland
END:VEVENT
BEGIN:VEVENT
DTSTART;TZID=UTC:20251130T130000
DTEND;TZID=UTC:20251130T180000
DTSTAMP:20260424T231804
CREATED:20250911T121524Z
LAST-MODIFIED:20250911T121524Z
UID:2055-1764507600-1764525600@ff-wartenfels.de
SUMMARY:Wartenfelser Weihnachtsmarkt
DESCRIPTION:
URL:http://ff-wartenfels.de/event/wartenfelser-weihnachtsmarkt-2/
LOCATION:Feuerwehrhaus Wartenfels\, Wartenfels 120\, Presseck\, Bayern\, 95355\, Deutschland
END:VEVENT
BEGIN:VEVENT
DTSTART;TZID=UTC:20251025T183000
DTEND;TZID=UTC:20251025T233000
DTSTAMP:20260424T231804
CREATED:20250911T121426Z
LAST-MODIFIED:20250911T121426Z
UID:2053-1761417000-1761435000@ff-wartenfels.de
SUMMARY:Kameradschaftsabend
DESCRIPTION:
URL:http://ff-wartenfels.de/event/kameradschaftsabend-2/
LOCATION:Feuerwehrhaus Wartenfels\, Wartenfels 120\, Presseck\, Bayern\, 95355\, Deutschland
END:VEVENT
BEGIN:VEVENT
DTSTART;TZID=UTC:20251025T143000
DTEND;TZID=UTC:20251025T170000
DTSTAMP:20260424T231804
CREATED:20250911T121317Z
LAST-MODIFIED:20250911T121317Z
UID:2051-1761402600-1761411600@ff-wartenfels.de
SUMMARY:Abschlussübung
DESCRIPTION:
URL:http://ff-wartenfels.de/event/abschlussuebung-3/
LOCATION:Feuerwehrhaus Wartenfels\, Wartenfels 120\, Presseck\, Bayern\, 95355\, Deutschland
END:VEVENT
BEGIN:VEVENT
DTSTART;VALUE=DATE:20250622
DTEND;VALUE=DATE:20250623
DTSTAMP:20260424T231804
CREATED:20241028T141442Z
LAST-MODIFIED:20250611T120141Z
UID:1326-1750550400-1750636799@ff-wartenfels.de
SUMMARY:150 Jahre FF Wartenfels
DESCRIPTION:
URL:http://ff-wartenfels.de/event/150-jahre-ff-wartenfels/
LOCATION:Feuerwehrhaus Wartenfels\, Wartenfels 120\, Presseck\, Bayern\, 95355\, Deutschland
END:VEVENT
BEGIN:VEVENT
DTSTART;TZID=UTC:20250620T210000
DTEND;TZID=UTC:20250620T210000
DTSTAMP:20260424T231804
CREATED:20241028T141405Z
LAST-MODIFIED:20250617T091058Z
UID:1324-1750453200-1750453200@ff-wartenfels.de
SUMMARY:Beach Party
DESCRIPTION:
URL:http://ff-wartenfels.de/event/beach-party-2/
LOCATION:Feuerwehrhaus Wartenfels\, Wartenfels 120\, Presseck\, Bayern\, 95355\, Deutschland
END:VEVENT
BEGIN:VEVENT
DTSTART;TZID=UTC:20250529T093000
DTEND;TZID=UTC:20250529T170000
DTSTAMP:20260424T231804
CREATED:20241028T141328Z
LAST-MODIFIED:20250520T134543Z
UID:1322-1748511000-1748538000@ff-wartenfels.de
SUMMARY:Vatertagswanderung
DESCRIPTION:
URL:http://ff-wartenfels.de/event/vatertagswanderung-2/
LOCATION:Feuerwehrhaus Wartenfels\, Wartenfels 120\, Presseck\, Bayern\, 95355\, Deutschland
END:VEVENT
BEGIN:VEVENT
DTSTART;TZID=UTC:20250412T090000
DTEND;TZID=UTC:20250412T170000
DTSTAMP:20260424T231804
CREATED:20250331T161805Z
LAST-MODIFIED:20250331T161805Z
UID:1857-1744448400-1744477200@ff-wartenfels.de
SUMMARY:Zamm geht´s
DESCRIPTION:
URL:http://ff-wartenfels.de/event/zamm-gehts-2/
LOCATION:Feuerwehrhaus Wartenfels\, Wartenfels 120\, Presseck\, Bayern\, 95355\, Deutschland
END:VEVENT
BEGIN:VEVENT
DTSTART;TZID=UTC:20250222T193000
DTEND;TZID=UTC:20250222T193000
DTSTAMP:20260424T231804
CREATED:20241028T141250Z
LAST-MODIFIED:20241227T211036Z
UID:1320-1740252600-1740252600@ff-wartenfels.de
SUMMARY:Faschingstanz
DESCRIPTION:
URL:http://ff-wartenfels.de/event/faschingstanz-2/
LOCATION:ATS Sportheim\, Wartenfels 149\, Presseck\, Bayern\, 95355
END:VEVENT
BEGIN:VEVENT
DTSTART;TZID=UTC:20250125T193000
DTEND;TZID=UTC:20250125T213000
DTSTAMP:20260424T231804
CREATED:20241227T191026Z
LAST-MODIFIED:20241227T211251Z
UID:1657-1737833400-1737840600@ff-wartenfels.de
SUMMARY:Jahreshauptversammlung
DESCRIPTION:
URL:http://ff-wartenfels.de/event/jahreshauptversammlung-3/
LOCATION:Gasthaus Geyer\, Wartenfels 1\, Presseck\, Bayern\, 95355\, Deutschland
END:VEVENT
BEGIN:VEVENT
DTSTART;TZID=UTC:20250104T150000
DTEND;TZID=UTC:20250104T170000
DTSTAMP:20260424T231804
CREATED:20240617T141737Z
LAST-MODIFIED:20240617T141737Z
UID:1191-1736002800-1736010000@ff-wartenfels.de
SUMMARY:Taubenaustausch
DESCRIPTION:
URL:http://ff-wartenfels.de/event/taubenaustausch-2/
LOCATION:Gasthaus Geyer\, Wartenfels 1\, Presseck\, Bayern\, 95355\, Deutschland
END:VEVENT
BEGIN:VEVENT
DTSTART;TZID=UTC:20241214T190000
DTEND;TZID=UTC:20241214T230000
DTSTAMP:20260424T231804
CREATED:20231107T131401Z
LAST-MODIFIED:20231107T131401Z
UID:803-1734202800-1734217200@ff-wartenfels.de
SUMMARY:Weihnachtsfeier
DESCRIPTION:
URL:http://ff-wartenfels.de/event/weihnachtsfeier-2/
LOCATION:Gasthaus Geyer\, Wartenfels 1\, Presseck\, Bayern\, 95355\, Deutschland
END:VEVENT
BEGIN:VEVENT
DTSTART;TZID=UTC:20241201T130000
DTEND;TZID=UTC:20241201T180000
DTSTAMP:20260424T231804
CREATED:20231107T131237Z
LAST-MODIFIED:20231107T132106Z
UID:801-1733058000-1733076000@ff-wartenfels.de
SUMMARY:Wartenfelser Weihnachtsmarkt
DESCRIPTION:
URL:http://ff-wartenfels.de/event/weihnachtsmarkt/
LOCATION:Feuerwehrhaus Wartenfels\, Wartenfels 120\, Presseck\, Bayern\, 95355\, Deutschland
END:VEVENT
BEGIN:VEVENT
DTSTART;TZID=UTC:20241130T083000
DTEND;TZID=UTC:20241130T170000
DTSTAMP:20260424T231804
CREATED:20240617T141835Z
LAST-MODIFIED:20240617T141835Z
UID:1193-1732955400-1732986000@ff-wartenfels.de
SUMMARY:Aufbau Wartenfelser Weihnachtsmarkt
DESCRIPTION:
URL:http://ff-wartenfels.de/event/aufbau-wartenfelser-weihnachtsmarkt/
LOCATION:Feuerwehrhaus Wartenfels\, Wartenfels 120\, Presseck\, Bayern\, 95355\, Deutschland
END:VEVENT
BEGIN:VEVENT
DTSTART;TZID=UTC:20241026T183000
DTEND;TZID=UTC:20241026T233000
DTSTAMP:20260424T231804
CREATED:20231107T131952Z
LAST-MODIFIED:20231107T131952Z
UID:808-1729967400-1729985400@ff-wartenfels.de
SUMMARY:Kameradschaftsabend
DESCRIPTION:
URL:http://ff-wartenfels.de/event/kameradschaftsabend/
LOCATION:Feuerwehrhaus Wartenfels\, Wartenfels 120\, Presseck\, Bayern\, 95355\, Deutschland
END:VEVENT
BEGIN:VEVENT
DTSTART;TZID=UTC:20241026T143000
DTEND;TZID=UTC:20241026T170000
DTSTAMP:20260424T231804
CREATED:20231107T132037Z
LAST-MODIFIED:20231107T132037Z
UID:810-1729953000-1729962000@ff-wartenfels.de
SUMMARY:Abschlussübung
DESCRIPTION:
URL:http://ff-wartenfels.de/event/abschlussuebung-2/
LOCATION:Feuerwehrhaus Wartenfels\, Wartenfels 120\, Presseck\, Bayern\, 95355\, Deutschland
END:VEVENT
BEGIN:VEVENT
DTSTART;TZID=UTC:20240913T080000
DTEND;TZID=UTC:20240913T170000
DTSTAMP:20260424T231804
CREATED:20240617T141459Z
LAST-MODIFIED:20240617T141459Z
UID:1186-1726214400-1726246800@ff-wartenfels.de
SUMMARY:Übung
DESCRIPTION:
URL:http://ff-wartenfels.de/event/uebung-7/
LOCATION:Feuerwehrhaus Wartenfels\, Wartenfels 120\, Presseck\, Bayern\, 95355\, Deutschland
END:VEVENT
BEGIN:VEVENT
DTSTART;TZID=UTC:20240907T080000
DTEND;TZID=UTC:20240907T170000
DTSTAMP:20260424T231804
CREATED:20240617T141542Z
LAST-MODIFIED:20240617T141542Z
UID:1188-1725696000-1725728400@ff-wartenfels.de
SUMMARY:Jugendleistungsmarsch
DESCRIPTION:
URL:http://ff-wartenfels.de/event/jugendleistungsmarsch/
END:VEVENT
BEGIN:VEVENT
DTSTART;TZID=UTC:20240809T193000
DTEND;TZID=UTC:20240809T210000
DTSTAMP:20260424T231804
CREATED:20240617T141403Z
LAST-MODIFIED:20240617T141403Z
UID:1184-1723231800-1723237200@ff-wartenfels.de
SUMMARY:Übung
DESCRIPTION:
URL:http://ff-wartenfels.de/event/uebung-6/
LOCATION:Feuerwehrhaus Wartenfels\, Wartenfels 120\, Presseck\, Bayern\, 95355\, Deutschland
END:VEVENT
BEGIN:VEVENT
DTSTART;TZID=UTC:20240809T193000
DTEND;TZID=UTC:20240809T210000
DTSTAMP:20260424T231804
CREATED:20240521T080419Z
LAST-MODIFIED:20240521T080419Z
UID:1102-1723231800-1723237200@ff-wartenfels.de
SUMMARY:Übung
DESCRIPTION:
URL:http://ff-wartenfels.de/event/uebung-5/
LOCATION:Feuerwehrhaus Wartenfels\, Wartenfels 120\, Presseck\, Bayern\, 95355\, Deutschland
END:VEVENT
BEGIN:VEVENT
DTSTART;TZID=UTC:20240712T193000
DTEND;TZID=UTC:20240712T210000
DTSTAMP:20260424T231804
CREATED:20240521T080312Z
LAST-MODIFIED:20240521T080312Z
UID:1100-1720812600-1720818000@ff-wartenfels.de
SUMMARY:Übung
DESCRIPTION:
URL:http://ff-wartenfels.de/event/uebung-4/
LOCATION:Feuerwehrhaus Wartenfels\, Wartenfels 120\, Presseck\, Bayern\, 95355\, Deutschland
END:VEVENT
BEGIN:VEVENT
DTSTART;TZID=UTC:20240614T193000
DTEND;TZID=UTC:20240614T210000
DTSTAMP:20260424T231804
CREATED:20240521T080219Z
LAST-MODIFIED:20240521T080219Z
UID:1098-1718393400-1718398800@ff-wartenfels.de
SUMMARY:Übung
DESCRIPTION:
URL:http://ff-wartenfels.de/event/uebung-3/
LOCATION:Feuerwehrhaus Wartenfels\, Wartenfels 120\, Presseck\, Bayern\, 95355\, Deutschland
END:VEVENT
BEGIN:VEVENT
DTSTART;TZID=UTC:20240602T093000
DTEND;TZID=UTC:20240602T190000
DTSTAMP:20260424T231804
CREATED:20231027T073337Z
LAST-MODIFIED:20240521T075716Z
UID:666-1717320600-1717354800@ff-wartenfels.de
SUMMARY:Tag der offenen Tür
DESCRIPTION:
URL:http://ff-wartenfels.de/event/tag-der-offenen-tuer/
LOCATION:Feuerwehrhaus Wartenfels\, Wartenfels 120\, Presseck\, Bayern\, 95355\, Deutschland
END:VEVENT
BEGIN:VEVENT
DTSTART;TZID=UTC:20240531T210000
DTEND;TZID=UTC:20240601T020000
DTSTAMP:20260424T231804
CREATED:20231027T073209Z
LAST-MODIFIED:20240219T094449Z
UID:664-1717189200-1717207200@ff-wartenfels.de
SUMMARY:Beach Party
DESCRIPTION:
URL:http://ff-wartenfels.de/event/beach-party/
LOCATION:Feuerwehrhaus Wartenfels\, Wartenfels 120\, Presseck\, Bayern\, 95355\, Deutschland
END:VEVENT
BEGIN:VEVENT
DTSTART;TZID=UTC:20240517T193000
DTEND;TZID=UTC:20240517T193000
DTSTAMP:20260424T231804
CREATED:20240403T142247Z
LAST-MODIFIED:20240403T142247Z
UID:1004-1715974200-1715974200@ff-wartenfels.de
SUMMARY:Übung
DESCRIPTION:
URL:http://ff-wartenfels.de/event/uebung-2/
LOCATION:Feuerwehrhaus Wartenfels\, Wartenfels 120\, Presseck\, Bayern\, 95355\, Deutschland
END:VEVENT
BEGIN:VEVENT
DTSTART;TZID=UTC:20240509T093000
DTEND;TZID=UTC:20240509T183000
DTSTAMP:20260424T231804
CREATED:20231107T131141Z
LAST-MODIFIED:20240502T102806Z
UID:799-1715247000-1715279400@ff-wartenfels.de
SUMMARY:Vatertagswanderung
DESCRIPTION:
URL:http://ff-wartenfels.de/event/vatertagswanderung/
LOCATION:Gasthaus Geyer\, Wartenfels 1\, Presseck\, Bayern\, 95355\, Deutschland
END:VEVENT
END:VCALENDAR